BEGIN:VCALENDAR
VERSION:2.0
PRODID:-//GreenCave - ECPv6.15.18//NONSGML v1.0//EN
CALSCALE:GREGORIAN
METHOD:PUBLISH
X-WR-CALNAME:GreenCave
X-ORIGINAL-URL:https://www.greencave.org
X-WR-CALDESC:Eventi per GreenCave
REFRESH-INTERVAL;VALUE=DURATION:PT1H
X-Robots-Tag:noindex
X-PUBLISHED-TTL:PT1H
BEGIN:VTIMEZONE
TZID:Europe/Rome
BEGIN:DAYLIGHT
TZOFFSETFROM:+0100
TZOFFSETTO:+0200
TZNAME:CEST
DTSTART:20200329T010000
END:DAYLIGHT
BEGIN:STANDARD
TZOFFSETFROM:+0200
TZOFFSETTO:+0100
TZNAME:CET
DTSTART:20201025T010000
END:STANDARD
BEGIN:DAYLIGHT
TZOFFSETFROM:+0100
TZOFFSETTO:+0200
TZNAME:CEST
DTSTART:20210328T010000
END:DAYLIGHT
BEGIN:STANDARD
TZOFFSETFROM:+0200
TZOFFSETTO:+0100
TZNAME:CET
DTSTART:20211031T010000
END:STANDARD
BEGIN:DAYLIGHT
TZOFFSETFROM:+0100
TZOFFSETTO:+0200
TZNAME:CEST
DTSTART:20220327T010000
END:DAYLIGHT
BEGIN:STANDARD
TZOFFSETFROM:+0200
TZOFFSETTO:+0100
TZNAME:CET
DTSTART:20221030T010000
END:STANDARD
END:VTIMEZONE
BEGIN:VEVENT
DTSTART;TZID=Europe/Rome:20211222T180000
DTEND;TZID=Europe/Rome:20211222T193000
DTSTAMP:20260421T101919
CREATED:20211121T072002Z
LAST-MODIFIED:20211214T044437Z
UID:3894-1640196000-1640201400@www.greencave.org
SUMMARY:Il disincanto poetico di Giovanni de Cristofaro
DESCRIPTION:Incontro con Michele Notarangelo e Franco Nasuti per conoscere l’opera del poeta dialettale di Monte Sant’Angelo. Nella Green Cave alle ore 18. Ingresso libero con Green Pass e mascherina. \nNel corso del Novecento\, Giovanni de Cristofaro (Monte Sant’Angelo\, 1886 – Aosta\, 1969) ha inteso ed utilizzato il dialetto in contesti dichiaratamente letterari\, tanto da averlo promosso – nel lungo procedere di un quarantennio – attraverso importanti pubblicazioni: la stampa della sua prima opera risale infatti al 1927\, l’ultima al 1966. \nL’intensa e continua attività di de Cristofaro – espressasi in poesia\, prosa e teatro ed anche nella memorialistica locale e nello studio delle tradizioni popolari – ha contribuito così a definire il notevole e ricco patrimonio culturale della Letteratura Garganica. \nNella Green Cave sono disponibili alcune delle sue opere ripubblicate di recente da Claudio Grenzi Editore e curate da Michele Notarangelo. \nAll’incontro interverranno Michele Notarangelo\, curatore delle edizioni recenti del poeta\, che ricostruirà la sua biografia letteraria\, e Franco Nasuti\, traduttore in italiano dei suoi testi dialettali\, che reciterà alcuni dei suoi componimenti. \n  \nPubblicazioni di Giovanni de Cristofaro:\nAnema nova. Esercizii di lettura e traduzione dal dialetto garganico per le scuole elementari (1927)\nA cor’a core. Poesie dialettali garganiche (1929)\nZurì\, cane fedele… Quadri di vita garganica (1935)\nChi lu dice? Prudebbie\, additte e soprannume muntanere (1943)\nLa lampa de la fede (1956)\n’Mmizzo la streta (1957)\nRacconti del Gargano (1966) \nPubblicazioni postume di Giovanni de Cristofaro\, curate da Michele Notarangelo:\n‘Mmizzo la streta (1997)\nScene di vita (1999)\nCantastorie del Gargano (2001)\n’Ndegnamente (2002)\nLettere a Giovanni de Cristofaro. Catalogo della corrispondenza [1913-1969] (2005) \n 
URL:https://www.greencave.org/event/giovanni-de-cristofaro-poeta-montanaro/
LOCATION:Green Cave di FestambieSud\, via Garibaldi 27\, Monte Sant'Angelo\, Foggia\, 71037\, Italia
CATEGORIES:Incontri,Libri
ATTACH;FMTTYPE=image/jpeg:https://www.greencave.org/wp-content/uploads/2021/11/De-Cristofaro.jpg
END:VEVENT
BEGIN:VEVENT
DTSTART;TZID=Europe/Rome:20211217T180000
DTEND;TZID=Europe/Rome:20211217T193000
DTSTAMP:20260421T101919
CREATED:20211117T065536Z
LAST-MODIFIED:20211125T181015Z
UID:496-1639764000-1639769400@www.greencave.org
SUMMARY:Donodiluce\, di Donato di Bari e Maddalena Gatta
DESCRIPTION:Presentazione della nuova filosofiaba di Donato di Bari\, autore dei testi\, e Maddalena Gatta\, autrice delle illustrazioni. Il 17 dicembre alle ore 18\, nella Green Cave. il volume è edito da Quorum Edizioni. Ingresso libero. \nLa Notte degli Astri era vicina e i fenomeni astronomici nei cieli erano più frequenti del solito\, ogni desiderio poteva realizzarsi\, persino quello di diventare stella. Tuttavia\, i custodi dello spazio del tempo e della vita concedevano solo ai più meritevoli un posto in uno dei cieli dell’Universo. Tutti si affannavano a preparare doni di luce al cielo\, nel tentativo di diventare i prescelti. Anche Shedir e sua figlia Nashira si recarono sulla collina per accendere una lanterna ad olio. Durante il percorso incontrarono Righel\, un bimbo che chiedeva aiuto. Per sostenerlo decisero di rinunciare a festeggiare la Notte degli Astri. \nQuella notte un forte vento si sollevò su tutto il pianeta e ogni offerta di luce si spense. Solo la loro lanterna restò accesa\, squarciò i cieli e spazzò via ogni superstizione liberando il cuore umano da egoismo\, collera e stupidità …e la sua luce ancor risplende. \nIn vendita nella Green Cave o acquista subito su questo sito
URL:https://www.greencave.org/event/donodiluce-con-donato-di-bari-e-maddalena-gatta/
LOCATION:Green Cave di FestambieSud\, via Garibaldi 27\, Monte Sant'Angelo\, Foggia\, 71037\, Italia
CATEGORIES:Libri
ATTACH;FMTTYPE=image/jpeg:https://www.greencave.org/wp-content/uploads/2021/11/Quadrata_donodiluce.jpeg
ORGANIZER;CN="Legambiente circolo FestambienteSud":MAILTO:festambientesud@gmail.com
END:VEVENT
BEGIN:VEVENT
DTSTART;TZID=Europe/Rome:20211210T180000
DTEND;TZID=Europe/Rome:20211210T193000
DTSTAMP:20260421T101919
CREATED:20211117T100926Z
LAST-MODIFIED:20211126T192719Z
UID:510-1639159200-1639164600@www.greencave.org
SUMMARY:la luna c'è sempre\, di Anto Nafula Pignataro
DESCRIPTION:L’associazione Bantù di Monte Sant’Angelo promuove la presentazione di la Luna c’è sempre\, libro di Anto Nafula Pignataro\, edito da Kurumuni. Nella Green Cave il 10 dicembre alle ore 18.  \nIntervengono: Lucia Armillotta e Leo Rinaldi (responsabili dell’associazione Bantù)\, Donato Taronna (panificatore)\, Anto Nafula Pignataro (autrice) \nNei vicoli maleodoranti di uno slum\, come quello di Korogocho (periferia di Nairobi)\, la perversione e la cattiveria umana sembrano aver traviato irrimediabilmente la vita di Mama Marion; ma lei riesce\, nonostante tutto\, a far sopravvivere dentro di sé il ricordo di coloro che l’hanno condotta ed edotta all’idea di bello e di bene. Mama Marion continua così ad attraversare\, sino a quando le è concesso\, le bellissime storie di coloro che sono entrati nella sua vita\, e grazie ai loro ricordi riesce quasi ad anestetizzare la sua estrema miseria\, il suo profondo dolore e la sua apparente ignoranza. Il suo racconto è dunque evocativo di un viaggio introspettivo che ogni uomo può compiere solo in un rapporto dialogico con un vate\, un mentore o un’anima compagna. La luna a volte sembra sparire\, ma sino a quando gli altri si faranno manifesti nella nostra vita\, si potrà certamente affermare che «la luna c’è sempre». Con una presentazione di Monica Maggioni. In copertina opera di Longinos Nagila. \nIl ricavato sarà devoluto per ultimare il progetto “Bethlehem – casa del pane” e avviare una Biblioteca di comunità.
URL:https://www.greencave.org/event/la-luna-ce-sempre/
LOCATION:Green Cave di FestambieSud\, via Garibaldi 27\, Monte Sant'Angelo\, Foggia\, 71037\, Italia
CATEGORIES:Libri
ATTACH;FMTTYPE=image/jpeg:https://www.greencave.org/wp-content/uploads/2021/11/Quadrata_luna.jpeg
END:VEVENT
BEGIN:VEVENT
DTSTART;TZID=Europe/Rome:20211208T180000
DTEND;TZID=Europe/Rome:20211208T180000
DTSTAMP:20260421T101919
CREATED:20211121T081445Z
LAST-MODIFIED:20211121T081445Z
UID:3899-1638986400-1638986400@www.greencave.org
SUMMARY:La neve cade ancora\, romanzo di Toni Augello
DESCRIPTION:Alle ore 18 nella Green Cave presentazione con Toni Augello\, l’autore\, e Domenico Sergio Antonacci\, di un romanzo ambientato sul Gargano all’epoca dell’unità d’Italia. Ingresso libero con Green pass e mascherina. \nL’autore è formatore e consulente di digital storytelling. A curare tutte le fasi della pubblicazione sono stati i mattinatesi Paolo Bitondi e Massimo Ciuffreda di “Back To The Future”. La copertina è opera dell’illustratore e graphic designer Donato Turano di Exodia Tech. \nAmbientato tra il 1860 e 1861 a San Giovanni Rotondo\, il libro narra delle vicende del giovane Nanni in un’epoca scossa dai grandi avvenimenti geopolitici e cruenti fatti di sangue\, che genereranno il fenomeno del brigantaggio post-unitario. \nIl 21 ottobre 1860 nel Regno delle Due Sicilie si celebra il plebiscito per l’annessione al Regno d’Italia. A decretare l’annessione deve essere una decisione autonoma delle popolazioni che sancisca la volontà di far parte del nuovo Regno. La formula prevista è il suffragio universale diretto\, ma a votare è solo il sesso maschile. \nAd onor del vero si può votare anche in senso contrario all’annessione. Ma il plebiscito è concepito e organizzato per non lasciare spazio al no. Il decreto elettorale prevede in ogni seggio la presenza di tre urne\, una vuota tra due laterali contenenti le schede del sì e del no\, da cui ciascun votante prende quella di sua preferenza e la depone nell’urna vuota. \nIl sistema di suffragio palese risponde a esigenze di controllo da parte delle autorità\, ma fa buon gioco agli organizzatori. E\, come è noto\, i risultati pagano. Nel testo del plebiscito delle province napoletane e siciliane è chiesto di votare «per l’Italia una ed indivisibile\, con Vittorio Emanuele Re costituzionale e i suoi legittimi discendenti». \nC’è fretta. L’Unità d’Italia sembra una lotta contro il tempo. E forse lo è. A Gaeta\, Francesco II\, Re delle Due Sicilie\, sta resistendo con i fedelissimi alla corona. Non ha ancora sventolato bandiera bianca\, ma i tricolori e le effigi di Vittorio Emanuele II e Garibaldi hanno già invaso Napoli. \nI registi dell’unificazione hanno lavorato bene. Basta affacciarsi a Largo Palazzo (che diventerà appunto piazza del Plebiscito) per capire in che direzione spinge il vento. Non è così nelle periferie del Regno. Nei piccoli centri\, lontani dalla capitale\, dilaga una analfabetizzazione pressoché totale e una fede intrisa di superstizione\, e il popolo è facilmente suggestionabile. \nA San Giovanni Rotondo\, alcuni “notabili” più refrattari all’idea del cambiamento intercettano il malcontento degli ex soldati borbonici che non vogliono tornare a prestar servizio sotto le insegne piemontesi e si servono di loro per continuare a sostenere la causa del Borbone\, aizzandoli contro l’invasore. La resistenza trova anche l’appoggio indiretto del clero\, a cui il governo piemontese sta togliendo beni e privilegi. Il plebiscito finisce nel sangue e viene rinviato. Come spesso accade\, ne fanno le spese anche persone del tutto estranee ai fatti. \nTra gli altri\, paga il suo tributo di sangue il nevaiolo\, Mastro Damù\, diminutivo gergale di Gaetano\, che detiene il contratto d’appalto per la vendita della neve in paese. Il suo è un mestiere duro\, ma molto redditizio. Conserva la neve d’inverno in apposite fosse ricavate in alta quota\, le “neviere”\, e la rivende d’estate nella sua bottega\, nota come “Porta del freddo”. \nIl suo giovane aiutante Nanni si troverà ben presto alle prese con una decisione importante da prendere: dileguarsi tra le pieghe di un destino che si fa beffe dei più piccoli\, oppure affrontare le sfide di un mondo che sembra sempre più grande di noi fino a quando non decidiamo di affrontarlo.
URL:https://www.greencave.org/event/la-neve-cade-ancora-romanzo-di-toni-augello/
LOCATION:Green Cave di FestambieSud\, via Garibaldi 27\, Monte Sant'Angelo\, Foggia\, 71037\, Italia
CATEGORIES:Incontri,Libri
ATTACH;FMTTYPE=image/jpeg:https://www.greencave.org/wp-content/uploads/2021/11/Augello.jpg
END:VEVENT
BEGIN:VEVENT
DTSTART;TZID=Europe/Rome:20211205T180000
DTEND;TZID=Europe/Rome:20211205T193000
DTSTAMP:20260421T101919
CREATED:20211121T201046Z
LAST-MODIFIED:20211121T201904Z
UID:3977-1638727200-1638732600@www.greencave.org
SUMMARY:Partorire la differenza di Patrizia Impagnatiello
DESCRIPTION:Presentazione del volume edito da Edizioni del Rosone. Alle ore 18 nella Green Cave incontro con l’autrice. Ingresso libero con Green Pass e mascherina. \n“Partorire la differenza. Storia di una nascita e di una rinascita” è la storia dell’attesa inattesa: di una nascita\, quella di un figlio diverso da amare\, di una rinascita\, quella di una madre\, come di una nuova donna. Dove va a finire l’amore materno quando si partorisce la differenza? La verità sulla sindrome di Down\, come su ogni questione che tocca e che infiamma\, non è mai una sola. Crescere un figlio così\, nato con un cromosoma in più stampato all’infinito\, nell’invisibilità dei suoi geni\, ma naturalmente visibile agli occhi degli altri\, reggere il colpo di una nascita altra\, assumersi innocenti colpe per non essere in grado di risolvere l’enigma vivente che mostra di essere il tuo bambino\, tenere i nervi saldi nell’anoressia mentale e corporale\, mantenersi a galla per non affogare\, scegliere di ricominciare\, di tornare a respirare\, di rinascere per non lasciarsi morire. Questa è la storia di un parto doppio: la nascita di un figlio diverso da amare\, la rinascita di una donna diversa che impara ad amare. È un racconto viscerale che erode e scandaglia l’intimità per tentare di liberare una nuova luce\, di andare oltre il puzzo insopportabile di un’ignoranza sfacciata che fa a pugni col desiderio d’amore di un figlio per il solo fatto di esistere e di esistere proprio così e non altrimenti\, e riuscire a salvarsi\, riuscire a salvarci. \nIl libro è disponibile nella Green Cave o acquista ora su questo sito
URL:https://www.greencave.org/event/partorire-la-differenza-di-patrizia-impagnatiello/
LOCATION:Green Cave di FestambieSud\, via Garibaldi 27\, Monte Sant'Angelo\, Foggia\, 71037\, Italia
CATEGORIES:Incontri,Libri
ATTACH;FMTTYPE=image/jpeg:https://www.greencave.org/wp-content/uploads/2021/11/Partorire-la-differenza_quadrato.jpeg
END:VEVENT
BEGIN:VEVENT
DTSTART;TZID=Europe/Rome:20211203T180000
DTEND;TZID=Europe/Rome:20211203T193000
DTSTAMP:20260421T101919
CREATED:20211121T064741Z
LAST-MODIFIED:20211129T230519Z
UID:3890-1638554400-1638559800@www.greencave.org
SUMMARY:Evento inaugurale. Viaggio nei libri di Joseph Tusiani. Mostra documentaria 1941-2020
DESCRIPTION:il 3 dicembre nella Green Cave alle ore 18. Ingresso libero con Green Pass e mascherina. \nIncontro con Antonio Motta e Cosma Siani\, curatori della mostra\, che parleranno della biografia e delle opere di Joseph Tusiani\, scrittore\, poeta\, traduttore dei due mondi e delle molteplici lingue: inglese\, latino\, italiano e dialetto di San Marco in Lamis\, paese nel quale nacque\, e che sempre amò e frequentò\, prima di trasferirsi negli Stati Uniti\, dove visse e operò per tutta la vita. \nLeggi la presentazione della mostra
URL:https://www.greencave.org/event/evento-inaugurale-viaggio-nei-libri-di-joseph-tusiani-mostra-documentaria-1941-2020/
LOCATION:Green Cave di FestambieSud\, via Garibaldi 27\, Monte Sant'Angelo\, Foggia\, 71037\, Italia
CATEGORIES:Incontri,Libri,Mostre
ATTACH;FMTTYPE=image/jpeg:https://www.greencave.org/wp-content/uploads/2021/11/Tusiani3.jpeg
END:VEVENT
BEGIN:VEVENT
DTSTART;VALUE=DATE:20211203
DTEND;VALUE=DATE:20211223
DTSTAMP:20260421T101919
CREATED:20211117T170048Z
LAST-MODIFIED:20211214T044629Z
UID:514-1638489600-1640217599@www.greencave.org
SUMMARY:Viaggio nei libri di Joseph Tusiani. Mostra documentaria 1941-2020
DESCRIPTION:Documenti\, libri\, manoscritti del “poeta dei due mondi”\, in mostra nella Green Cave dal 3 al 15 dicembre 2021. Incontro inaugurale con i curatori Antonio Motta e Cosma Siani il 3 dicembre alle ore 18. Ingresso libero. \nViaggio nei libri di Joseph Tusiani. Mostra documentaria 1941-2020\, a cura di Antonio Motta e Cosma Siani\, racconta il percorso umano e culturale di Tusiani\, dagli esordi in giovanissima età fino agli ultimi giorni di vita attraverso libri\, documenti\, fotografie\, manoscritti che per la prima volta si offrono al visitatore.  Per commemorare il Tusiani emigrante\, il letterato\, il traduttore\, lo scrittore\, il poeta in cinque lingue\, che con i libri e sui libri ha trascorso la sua vita\, non poteva esserci iniziativa più appropriata. \nLa mostra sarà visitabile tutti i giorni nella Green Cave\, nell’orario di apertura del centro culturale. Ingresso libero con Green Pass e mascherina.
URL:https://www.greencave.org/event/viaggio-nei-libri-di-joseph-tusiani-mostra-documentaria-1941-2020/
LOCATION:Green Cave di FestambieSud\, via Garibaldi 27\, Monte Sant'Angelo\, Foggia\, 71037\, Italia
CATEGORIES:Libri,Mostre
ATTACH;FMTTYPE=image/jpeg:https://www.greencave.org/wp-content/uploads/2021/11/Tusiani1.jpg
END:VEVENT
END:VCALENDAR